BEGIN:VCALENDAR
PRODID:-//eluceo/ical//2.0/EN
VERSION:2.0
CALSCALE:GREGORIAN
BEGIN:VEVENT
UID:7e2aafb8806482b3f871e58ef5a286b0
DTSTAMP:20260423T120342Z
SUMMARY:line-vautrin-1913-1997-circa-1945 - Date de vente : 27/10/2013
DESCRIPTION:Nom du lots : LINE VAUTRIN (1913-1997) CIRCA 1945\n\nEnsemble d
 e trois boutons en céramique émaillée marron\, blanc représentant un c
 erf. Signés du monogramme. Bibliographie: Modèle similaire dans une autr
 e couleur dans le livre " Boutons de Loïc Allio\, préface de Hubert de G
 ivenchy\, édition du Seuil 2001\, page182
DTSTART;VALUE=DATE:20131027
END:VEVENT
END:VCALENDAR
