BEGIN:VCALENDAR
PRODID:-//eluceo/ical//2.0/EN
VERSION:2.0
CALSCALE:GREGORIAN
BEGIN:VEVENT
UID:a14a981debcc4e5239e1c4fb98cb39e9
DTSTAMP:20260423T115730Z
SUMMARY:equinox - Date de vente : 27/10/2013
DESCRIPTION:Nom du lots : EQUINOX\n\nCollier composé de quatre chaînes à
  maillons tubulaires retenant un motif circulaire serti de strass multicol
 ore. Signé
DTSTART;VALUE=DATE:20131027
END:VEVENT
END:VCALENDAR
