BEGIN:VCALENDAR
PRODID:-//eluceo/ical//2.0/EN
VERSION:2.0
CALSCALE:GREGORIAN
BEGIN:VEVENT
UID:d94f336ba65f57274461f318705cd788
DTSTAMP:20260423T115510Z
SUMMARY:plaque - Date de vente : 27/10/2013
DESCRIPTION:Nom du lots : PLAQUE\n\nPENDENTIF en bronze doré sculpté figu
 rant un colimaçon. Signé au dos d’un monogram A.M numéroté 4/8- 04
DTSTART;VALUE=DATE:20131027
END:VEVENT
END:VCALENDAR
