BEGIN:VCALENDAR
PRODID:-//eluceo/ical//2.0/EN
VERSION:2.0
CALSCALE:GREGORIAN
BEGIN:VEVENT
UID:f79a718965d9a55fc3432629a1fcee94
DTSTAMP:20260423T120225Z
SUMMARY:line-vautrin-1913-1997 - Date de vente : 27/10/2013
DESCRIPTION:Nom du lots : LINE VAUTRIN (1913-1997)\n\nPlaque en bronze dor
 é légèrement martelée et sculptée représentant la tête d’un coq. 
 Signée au dos
DTSTART;VALUE=DATE:20131027
END:VEVENT
END:VCALENDAR
