BEGIN:VCALENDAR
PRODID:-//eluceo/ical//2.0/EN
VERSION:2.0
CALSCALE:GREGORIAN
BEGIN:VEVENT
UID:7a786544f165bda06aeab9b3c875f9cd
DTSTAMP:20260423T115821Z
SUMMARY:christian-dior - Date de vente : 27/10/2013
DESCRIPTION:Nom du lots : CHRISTIAN DIOR\n\nMagnifique parure en métal dor
 é composée d’un collier en chute\, orné d’une multitude de breloque
 s figurant des coquillages rehaussés de motifs en résine translucide fa
 çon quartz\, monté sur une chaîne à maillons ovales ornés chacun d’
 un escargot et d’une paire de boucles d’oreille à l’identique. Sign
 é (écrin)
DTSTART;VALUE=DATE:20131027
END:VEVENT
END:VCALENDAR
