BEGIN:VCALENDAR
PRODID:-//eluceo/ical//2.0/EN
VERSION:2.0
CALSCALE:GREGORIAN
BEGIN:VEVENT
UID:081e76682a613171b748c52a00f59545
DTSTAMP:20260423T122050Z
SUMMARY:kjl-pour-kenneth-lane - Date de vente : 27/10/2013
DESCRIPTION:Nom du lots : K.J.L POUR KENNETH LANE\n\nCollier trois rangs ch
 oker de perles blanches et dorées. Signé
DTSTART;VALUE=DATE:20131027
END:VEVENT
END:VCALENDAR
