BEGIN:VCALENDAR
PRODID:-//eluceo/ical//2.0/EN
VERSION:2.0
CALSCALE:GREGORIAN
BEGIN:VEVENT
UID:b15ea82c869d4c3f0d7a5a7f52bbc072
DTSTAMP:20260423T122017Z
SUMMARY:yves-saint-laurent - Date de vente : 27/10/2013
DESCRIPTION:Nom du lots : YVES SAINT LAURENT\n\nCollier deux rangs de perle
 s en ébène enfilées sur des liens de cuir
DTSTART;VALUE=DATE:20131027
END:VEVENT
END:VCALENDAR
