BEGIN:VCALENDAR
PRODID:-//eluceo/ical//2.0/EN
VERSION:2.0
CALSCALE:GREGORIAN
BEGIN:VEVENT
UID:15e4f1af6cc3b1ab0f0af4f9f9c943ce
DTSTAMP:20260423T121747Z
SUMMARY:cartier - Date de vente : 27/10/2013
DESCRIPTION:Nom du lots : CARTIER\n\nPorte-monnaie\, portefeuille "Marcello
 " en python et crocodile noir\, fermeture rabat sur pression\, coins en pa
 lladium. Très bon état Coffret d’origine
DTSTART;VALUE=DATE:20131027
END:VEVENT
END:VCALENDAR
