BEGIN:VCALENDAR
PRODID:-//eluceo/ical//2.0/EN
VERSION:2.0
CALSCALE:GREGORIAN
BEGIN:VEVENT
UID:6ec4484736cff11cda81f3f95eefff9f
DTSTAMP:20260423T121748Z
SUMMARY:hermes-paris - Date de vente : 27/10/2013
DESCRIPTION:Nom du lots : HERMES PARIS\n\nBague chevalière de forme design
  en or gris\, ornée de diamants traversant deux motifs géométriques rep
 renant le "H" stylisé. T.53. Poids: 24\,2 gr environ
DTSTART;VALUE=DATE:20131027
END:VEVENT
END:VCALENDAR
