BEGIN:VCALENDAR
PRODID:-//eluceo/ical//2.0/EN
VERSION:2.0
CALSCALE:GREGORIAN
BEGIN:VEVENT
UID:79cf07b6e07a2d63eedbca7689e67c86
DTSTAMP:20260423T121807Z
SUMMARY:chanel-circa-1994 - Date de vente : 27/10/2013
DESCRIPTION:Nom du lots : CHANEL CIRCA 1994\n\nLong sautoir composé de per
 les blanches entrecoupées de cabochons de résine façon citrine\, serti 
 de métal doré. Signé. Long.: 95 cm
DTSTART;VALUE=DATE:20131027
END:VEVENT
END:VCALENDAR
