BEGIN:VCALENDAR
PRODID:-//eluceo/ical//2.0/EN
VERSION:2.0
CALSCALE:GREGORIAN
BEGIN:VEVENT
UID:51faeb2e74d3d329521d768f7defe668
DTSTAMP:20260423T121715Z
SUMMARY:judith-leiber - Date de vente : 27/10/2013
DESCRIPTION:Nom du lots : JUDITH LEIBER\n\nSac bourse en lézard miel à ef
 fet de froncé\, armature en laiton doré rehaussée de grenouilles en aci
 er chromé\, fermoir clip godronné\, anse bandoulière chaîne en métal 
 doré. Bon état
DTSTART;VALUE=DATE:20131027
END:VEVENT
END:VCALENDAR
