BEGIN:VCALENDAR
PRODID:-//eluceo/ical//2.0/EN
VERSION:2.0
CALSCALE:GREGORIAN
BEGIN:VEVENT
UID:da96770daf3f422f8167bbec27cf16e7
DTSTAMP:20260423T121946Z
SUMMARY:chanel-circa-1980 - Date de vente : 27/10/2013
DESCRIPTION:Nom du lots : CHANEL CIRCA 1980\n\nImportant sac 40 cm en croco
 dile bordeaux\, fermeture éclair\, double anse bandoulière chaîne en la
 iton doré entrelacée de cuir\, deux poches extérieures. Bon état Ce lo
 t a été confectionné dans les parties d’espèces de crocodylidaes spp
 \, classées aux Annexes II/B de la Convention de Washington et de la Règ
 le 338/97 du CE du 9/12/1996. Pour une sortie de l’UE un CITES d’expor
 t sera nécessaire celui-ci étant à la charge du futur acquéreur
DTSTART;VALUE=DATE:20131027
END:VEVENT
END:VCALENDAR
