BEGIN:VCALENDAR
PRODID:-//eluceo/ical//2.0/EN
VERSION:2.0
CALSCALE:GREGORIAN
BEGIN:VEVENT
UID:5d5156db4ed9a7dc2c8d0d65fbc96a53
DTSTAMP:20260423T140534Z
SUMMARY:hermes-paris-made-in-france - Date de vente : 27/10/2013
DESCRIPTION:Nom du lots : HERMES PARIS MADE IN FRANCE\n\nSac "Plume" 32 cm 
 en cuir grené blanc et toile chinée beige\, fermeture éclair\, double p
 oignée. Bon état (traces à la base\, poignée légèrement jaunies)
DTSTART;VALUE=DATE:20131027
END:VEVENT
END:VCALENDAR
