BEGIN:VCALENDAR
PRODID:-//eluceo/ical//2.0/EN
VERSION:2.0
CALSCALE:GREGORIAN
BEGIN:VEVENT
UID:b1548583968ffae8f61581e7434289f9
DTSTAMP:20260422T123347Z
SUMMARY:louis-vuitton-par-julie-verhoeven - Date de vente : 27/10/2013
DESCRIPTION:Nom du lots : LOUIS VUITTON PAR JULIE VERHOEVEN\n\nSac "Conte d
 e fée" 34 cm en satin mini Monogram noir\, cuir vernis\, lézard et poula
 in à travail de damier figurant un faon et un champignon stylisé\, ferme
 ture rabat sur pression\, anse bandoulière amovible réglable à l’iden
 tique. Très bon état
DTSTART;VALUE=DATE:20131027
END:VEVENT
END:VCALENDAR
