BEGIN:VCALENDAR
PRODID:-//eluceo/ical//2.0/EN
VERSION:2.0
CALSCALE:GREGORIAN
BEGIN:VEVENT
UID:7a611f38c6313ade29639f8eb8d4c72a
DTSTAMP:20260422T123301Z
SUMMARY:hermes-paris-collection-touareg - Date de vente : 27/10/2013
DESCRIPTION:Nom du lots : HERMES PARIS COLLECTION TOUAREG\n\nPendentif en c
 uir bordeaux à surpiqûres blanches\, orné au centre d’une fleur styli
 sée en argent\, retenue par un cordon en cuir à la couleur
DTSTART;VALUE=DATE:20131027
END:VEVENT
END:VCALENDAR
