BEGIN:VCALENDAR
PRODID:-//eluceo/ical//2.0/EN
VERSION:2.0
CALSCALE:GREGORIAN
BEGIN:VEVENT
UID:2edd1688f63d63822ffe1ac7d05d8a08
DTSTAMP:20260422T123028Z
SUMMARY:anonyme - Date de vente : 27/10/2013
DESCRIPTION:Nom du lots : ANONYME\n\nImportante plaque matricule en alumini
 um gravé: "Reproduction d’une plaque d’identification d’une poupée
  G.I. (finition et disproportions se retrouvent à taille humaine) montée
  sur un collier de perles en métal chromé
DTSTART;VALUE=DATE:20131027
END:VEVENT
END:VCALENDAR
