BEGIN:VCALENDAR
PRODID:-//eluceo/ical//2.0/EN
VERSION:2.0
CALSCALE:GREGORIAN
BEGIN:VEVENT
UID:2c4eba25999a27b2666d1673651afb4a
DTSTAMP:20260422T123347Z
SUMMARY:anonyme-origine-amricaine - Date de vente : 27/10/2013
DESCRIPTION:Nom du lots : ANONYME\, ORIGINE AMÉRICAINE\n\nAmusant collier 
 composé de capsules double face en carton sur le thème du lait\, une bre
 loque en acier figurant une vache rehausse le tout\, monté sur une chaîn
 e
DTSTART;VALUE=DATE:20131027
END:VEVENT
END:VCALENDAR
