BEGIN:VCALENDAR
PRODID:-//eluceo/ical//2.0/EN
VERSION:2.0
CALSCALE:GREGORIAN
BEGIN:VEVENT
UID:493b38fe1851bd2320bcf6ad56a09357
DTSTAMP:20260422T123045Z
SUMMARY:hanna-bernarh - Date de vente : 27/10/2013
DESCRIPTION:Nom du lots : HANNA BERNARH\n\nBroche oiseau des îles en méta
 l doré serti de strass multicolores\, bec gravé\, pampilles finissant le
  plumage. Signée
DTSTART;VALUE=DATE:20131027
END:VEVENT
END:VCALENDAR
