BEGIN:VCALENDAR
PRODID:-//eluceo/ical//2.0/EN
VERSION:2.0
CALSCALE:GREGORIAN
BEGIN:VEVENT
UID:47b09d3d115c05a6ca8180719fa40cdf
DTSTAMP:20260422T123218Z
SUMMARY:roger-scemama-circa-1960 - Date de vente : 27/10/2013
DESCRIPTION:Nom du lots : ROGER SCEMAMA CIRCA 1960\n\nBroche fleur en méta
 l argenté serti de strass façon brillants\, feuillage et tige à l’ide
 ntique. Non signée (accident au fermoir\, manques)
DTSTART;VALUE=DATE:20131027
END:VEVENT
END:VCALENDAR
