BEGIN:VCALENDAR
PRODID:-//eluceo/ical//2.0/EN
VERSION:2.0
CALSCALE:GREGORIAN
BEGIN:VEVENT
UID:0b8752fede31852596248f90bf6ee8bb
DTSTAMP:20260422T122926Z
SUMMARY:henry - Date de vente : 27/10/2013
DESCRIPTION:Nom du lots : HENRY\n\nSautoir en résine beige formant des bâ
 tonnets sertis de strass retenant un petit motif suivi de deux autres moti
 fs. Signé (manque un anneau d’accroche)
DTSTART;VALUE=DATE:20131027
END:VEVENT
END:VCALENDAR
