BEGIN:VCALENDAR
PRODID:-//eluceo/ical//2.0/EN
VERSION:2.0
CALSCALE:GREGORIAN
BEGIN:VEVENT
UID:27152c63b1790ec0c576c59feb28c430
DTSTAMP:20260422T123023Z
SUMMARY:fendi - Date de vente : 27/10/2013
DESCRIPTION:Nom du lots : FENDI\n\nSac du soir 21 cm rectangulaire en satin
  de soie vert d’eau rebrodé de perles tubulaires multicolores\, blanche
 s\, bleues et vertes\, et cuir marine\, fermeture aimantée sur languette 
 rehaussée du sigle en métal chromé émaillé\, double poignée réglabl
 e. Très bon état
DTSTART;VALUE=DATE:20131027
END:VEVENT
END:VCALENDAR
