BEGIN:VCALENDAR
PRODID:-//eluceo/ical//2.0/EN
VERSION:2.0
CALSCALE:GREGORIAN
BEGIN:VEVENT
UID:5e0a03a3ca46ce3b6ab885694b5e3c01
DTSTAMP:20260422T123356Z
SUMMARY:hermes-paris-made-in-france-anne-2005 - Date de vente : 27/10/2013
DESCRIPTION:Nom du lots : HERMES PARIS MADE IN FRANCE ANNÉE 2005\n\nExcept
 ionnel sac "Birkin" 35 cm en crocodile porosus orange\, attaches et fermoi
 r palladium\, double poignée\, clefs\, cadenas recouvert\, protège-pluie
 . Très bon état. Ce lot a été confectionné dans les parties d’espè
 ces de crocodylidaes spp\, classées aux Annexes II/B de la Convention de 
 Washington et de la Règle 338/97 du CE du 9/12/1996. Pour une sortie de l
 ’UE un CITES d’export sera nécessaire celui-ci étant à la charge du
  futur acquéreur
DTSTART;VALUE=DATE:20131027
END:VEVENT
END:VCALENDAR
