BEGIN:VCALENDAR
PRODID:-//eluceo/ical//2.0/EN
VERSION:2.0
CALSCALE:GREGORIAN
BEGIN:VEVENT
UID:6be8e5a9370e90f8cef8cce7f484e094
DTSTAMP:20260422T123356Z
SUMMARY:philippe-ferrandis-en-collaboration-avec-le-groupe-daniel-swarovski
  - Date de vente : 27/10/2013
DESCRIPTION:Nom du lots : PHILIPPE FERRANDIS EN COLLABORATION AVEC LE GROUP
 E DANIEL SWAROVSKI\n\nExceptionnel collier en chute\, modèle "Créature" 
 figurant des papillons aux strass de cristaux multicolores montés sur une
  rivière sertie de pierres façon béryl et sur une cotte de maille à an
 neaux ronds\, la fin du collier est rehaussée d’un scarabée et d’une
  goutte\, les trois derniers motifs sont amovibles. Signé (écrin\, certi
 ficat)
DTSTART;VALUE=DATE:20131027
END:VEVENT
END:VCALENDAR
