BEGIN:VCALENDAR
PRODID:-//eluceo/ical//2.0/EN
VERSION:2.0
CALSCALE:GREGORIAN
BEGIN:VEVENT
UID:16db51b1c35957c40fcad592fa5bd2f7
DTSTAMP:20260422T142017Z
SUMMARY:buccellati - Date de vente : 27/10/2013
DESCRIPTION:Nom du lots : BUCCELLATI\n\nBroche en argent figurant un insect
 e orné d’une malachite et une fleur ornée de petites perles translucid
 es et grises. Signée
DTSTART;VALUE=DATE:20131027
END:VEVENT
END:VCALENDAR
