BEGIN:VCALENDAR
PRODID:-//eluceo/ical//2.0/EN
VERSION:2.0
CALSCALE:GREGORIAN
BEGIN:VEVENT
UID:b9c99ed3d4bfe8dc9eab97347149301c
DTSTAMP:20260422T142402Z
SUMMARY:yves-saint-laurent-collection-chinoise - Date de vente : 27/10/2013
DESCRIPTION:Nom du lots : YVES SAINT LAURENT COLLECTION CHINOISE\n\nPendent
 if en métal doré figurant un motif d’ entrelacs serti de strass façon
  brillants rehaussés de trois petits chapeaux à l’identique couvrant c
 hacun une goutte de perle blanche\, monté sur une double chaîne. Signé
DTSTART;VALUE=DATE:20131027
END:VEVENT
END:VCALENDAR
