BEGIN:VCALENDAR
PRODID:-//eluceo/ical//2.0/EN
VERSION:2.0
CALSCALE:GREGORIAN
BEGIN:VEVENT
UID:86245a04a6264460bea37b497758d3ba
DTSTAMP:20260422T142011Z
SUMMARY:chanel - Date de vente : 27/10/2013
DESCRIPTION:Nom du lots : CHANEL\n\nEnsemble de trois anneaux en argent cha
 cun gravé du nom. Poids: 32\,3 gr environ
DTSTART;VALUE=DATE:20131027
END:VEVENT
END:VCALENDAR
