BEGIN:VCALENDAR
PRODID:-//eluceo/ical//2.0/EN
VERSION:2.0
CALSCALE:GREGORIAN
BEGIN:VEVENT
UID:a17ae824e46281bc358c98ddaee3ab71
DTSTAMP:20260422T142547Z
SUMMARY:yves-saint-laurent-haute-couture-circa-1980 - Date de vente : 27/10
 /2013
DESCRIPTION:Nom du lots : YVES SAINT LAURENT\, HAUTE COUTURE\, CIRCA 1980\n
 \nBracelet manchette ouvrant en métal argenté vieilli orné de cabochons
  en résine multicolore. Non signé
DTSTART;VALUE=DATE:20131027
END:VEVENT
END:VCALENDAR
