BEGIN:VCALENDAR
PRODID:-//eluceo/ical//2.0/EN
VERSION:2.0
CALSCALE:GREGORIAN
BEGIN:VEVENT
UID:8e0f79df14045ebf2c566f9e8a6200cc
DTSTAMP:20260422T142017Z
SUMMARY:ikio-paris - Date de vente : 27/10/2013
DESCRIPTION:Nom du lots : IKIO PARIS\n\nCollier en métal doré figurant de
 s palmettes martelées en décroissant. Signé
DTSTART;VALUE=DATE:20131027
END:VEVENT
END:VCALENDAR
