BEGIN:VCALENDAR
PRODID:-//eluceo/ical//2.0/EN
VERSION:2.0
CALSCALE:GREGORIAN
BEGIN:VEVENT
UID:625ee41c6b24fa4971cc66df07143fce
DTSTAMP:20260422T142211Z
SUMMARY:nina-ricci-haute-couture - Date de vente : 27/10/2013
DESCRIPTION:Nom du lots : NINA RICCI HAUTE COUTURE\n\nSautoir composé de p
 erles de Venise rouges\, noires entrecoupées de perles noires retenues pa
 r cinq petits rangs de perles de même couleur. Non Signé
DTSTART;VALUE=DATE:20131027
END:VEVENT
END:VCALENDAR
