BEGIN:VCALENDAR
PRODID:-//eluceo/ical//2.0/EN
VERSION:2.0
CALSCALE:GREGORIAN
BEGIN:VEVENT
UID:ae8724bc2230f92cf09688a784ab0007
DTSTAMP:20260422T142548Z
SUMMARY:hermes-paris-made-in-france-hermes-paris - Date de vente : 27/10/20
 13
DESCRIPTION:Nom du lots : HERMES PARIS MADE IN FRANCE - HERMES PARIS\n\nLot
  composé d’une enveloppe de répertoire en cuir noir avec son marque pa
 ge\, chiffré "J.C.A" et d’un support de bloc note en cuir marron rehaus
 sé de laiton doré brossé. Bon état (usures)
DTSTART;VALUE=DATE:20131027
END:VEVENT
END:VCALENDAR
