BEGIN:VCALENDAR
PRODID:-//eluceo/ical//2.0/EN
VERSION:2.0
CALSCALE:GREGORIAN
BEGIN:VEVENT
UID:9e36b790f29dffb78404e6a07f1a2111
DTSTAMP:20260422T142344Z
SUMMARY:yves-saint-laurent-rive-gauche - Date de vente : 27/10/2013
DESCRIPTION:Nom du lots : YVES SAINT LAURENT RIVE GAUCHE\n\nPendentif coeur
  en corne de deux couleurs\, monté sur liens de cuir. Signé
DTSTART;VALUE=DATE:20131027
END:VEVENT
END:VCALENDAR
