BEGIN:VCALENDAR
PRODID:-//eluceo/ical//2.0/EN
VERSION:2.0
CALSCALE:GREGORIAN
BEGIN:VEVENT
UID:1a49d8d38cd204f34194488e00a76e15
DTSTAMP:20260423T174226Z
SUMMARY:yves-saint-laurent - Date de vente : 11/12/2012
DESCRIPTION:Nom du lots : YVES SAINT LAURENT\n\nLong manteau en vison brun 
 (3 déchirures sur environ 5 cm au niveau de l’épaule gauche) T. 40
DTSTART;VALUE=DATE:20121211
END:VEVENT
END:VCALENDAR
