BEGIN:VCALENDAR
PRODID:-//eluceo/ical//2.0/EN
VERSION:2.0
CALSCALE:GREGORIAN
BEGIN:VEVENT
UID:24f80ffd9beafbdaa1b99951eb8a1a0f
DTSTAMP:20260423T174053Z
SUMMARY:christian-dior - Date de vente : 11/12/2012
DESCRIPTION:Nom du lots : Christian DIOR\n\nManteau long en tissu imperméa
 ble à imprimé léopard doublé en vison blanc
DTSTART;VALUE=DATE:20121211
END:VEVENT
END:VCALENDAR
