BEGIN:VCALENDAR
PRODID:-//eluceo/ical//2.0/EN
VERSION:2.0
CALSCALE:GREGORIAN
BEGIN:VEVENT
UID:824fe855ec29423a02cea2f0ff865d92
DTSTAMP:20260423T173941Z
SUMMARY:carven - Date de vente : 11/12/2012
DESCRIPTION:Nom du lots : CARVEN\n\nImperméable marine Boutons en métal a
 rgenté griffés AIR FRANCE T. XS
DTSTART;VALUE=DATE:20121211
END:VEVENT
END:VCALENDAR
