BEGIN:VCALENDAR
PRODID:-//eluceo/ical//2.0/EN
VERSION:2.0
CALSCALE:GREGORIAN
BEGIN:VEVENT
UID:0d95b8ca4974686ac9a56beefb1ffb9f
DTSTAMP:20260423T173941Z
SUMMARY:burberry - Date de vente : 11/12/2012
DESCRIPTION:Nom du lots : BURBERRY\n\nTrench T. 40/42
DTSTART;VALUE=DATE:20121211
END:VEVENT
END:VCALENDAR
