BEGIN:VCALENDAR
PRODID:-//eluceo/ical//2.0/EN
VERSION:2.0
CALSCALE:GREGORIAN
BEGIN:VEVENT
UID:38ce57c92c185fa6eafd9af565252c2c
DTSTAMP:20260423T173812Z
SUMMARY:lanvin - Date de vente : 11/12/2012
DESCRIPTION:Nom du lots : LANVIN\n\nCape en cuir Col en renard Collection p
 our le défilé presse de 1978
DTSTART;VALUE=DATE:20121211
END:VEVENT
END:VCALENDAR
