BEGIN:VCALENDAR
PRODID:-//eluceo/ical//2.0/EN
VERSION:2.0
CALSCALE:GREGORIAN
BEGIN:VEVENT
UID:9306e467a833417491362e8073fc35fe
DTSTAMP:20260422T090038Z
SUMMARY:claude-montana-circa-1982 - Date de vente : 29/04/2013
DESCRIPTION:Nom du lots : Claude MONTANA circa 1982\n\nCaban Homme en laine
  marine\, col cranté\, double boutonnage à deux boutons\, une poche poit
 rine\, deux pocjes à l’horizontal\, fente au dos. Griffe blanche\, grap
 hisme or
DTSTART;VALUE=DATE:20130429
END:VEVENT
END:VCALENDAR
