BEGIN:VCALENDAR
PRODID:-//eluceo/ical//2.0/EN
VERSION:2.0
CALSCALE:GREGORIAN
BEGIN:VEVENT
UID:9e0d62d5374ce5a86f49ff69f496adc6
DTSTAMP:20260422T090106Z
SUMMARY:jean-paul-gaultier-circa-1985 - Date de vente : 29/04/2013
DESCRIPTION:Nom du lots : Jean Paul GAULTIER circa 1985\n\nPantalon à pont
  Homme en cuir bordeaux. Griffe noire\, graphisme or et bleu (salissures)
DTSTART;VALUE=DATE:20130429
END:VEVENT
END:VCALENDAR
