BEGIN:VCALENDAR
PRODID:-//eluceo/ical//2.0/EN
VERSION:2.0
CALSCALE:GREGORIAN
BEGIN:VEVENT
UID:6626fe664a5665abafa46090525ebed5
DTSTAMP:20260422T085603Z
SUMMARY:alaa-circa-1990 - Date de vente : 29/04/2013
DESCRIPTION:Nom du lots : ALAÏA circa 1990\n\nVeste en cuir agneau cognac\
 , grand col châle cranté\, boutonnage pression\, manches longues gigot\,
  deux poches\, dos blousant soulignant de fines surpiqures d’inspiration
  latex. Griffe blanche\, graphisme noir
DTSTART;VALUE=DATE:20130429
END:VEVENT
END:VCALENDAR
