BEGIN:VCALENDAR
PRODID:-//eluceo/ical//2.0/EN
VERSION:2.0
CALSCALE:GREGORIAN
BEGIN:VEVENT
UID:c56f340cf4e1ec00fa8745410a07c8b7
DTSTAMP:20260422T085644Z
SUMMARY:patrick-kelly-circa-1990 - Date de vente : 29/04/2013
DESCRIPTION:Nom du lots : Patrick KELLY circa 1990\n\nEnsemble de cocktail 
 en crêpe brillant noir\, col châle blanc à un coin cassé\, simple bout
 onnage sur parementures en pointes\, manches longues\, pantalon large. Gri
 ffe blanche\, graphisme noir
DTSTART;VALUE=DATE:20130429
END:VEVENT
END:VCALENDAR
