BEGIN:VCALENDAR
PRODID:-//eluceo/ical//2.0/EN
VERSION:2.0
CALSCALE:GREGORIAN
BEGIN:VEVENT
UID:d29937c4cd723fbf2afddb708e134a84
DTSTAMP:20260422T090037Z
SUMMARY:yohji-yamamoto-circa-1990 - Date de vente : 29/04/2013
DESCRIPTION:Nom du lots : Yohji YAMAMOTO circa 1990\n\nJupe longue en crêp
 e polyester blanche imprimé de silhouettes noires\, se positionnant sur u
 ne demie jupe imprimée façon papier journal\, ceinture à l’identique.
  Griffe noire\, graphisme blanc
DTSTART;VALUE=DATE:20130429
END:VEVENT
END:VCALENDAR
