BEGIN:VCALENDAR
PRODID:-//eluceo/ical//2.0/EN
VERSION:2.0
CALSCALE:GREGORIAN
BEGIN:VEVENT
UID:57ed9b42f28e4286f5cfec56aba86bc4
DTSTAMP:20260422T083900Z
SUMMARY:jean-paul-gaultier-pour-levis-circa-2010 - Date de vente : 29/04/20
 13
DESCRIPTION:Nom du lots : Jean Paul GAULTIER pour Levi’s circa 2010\n\nBe
 rmuda en denim marine\, surpiqûres rouges et blanches
DTSTART;VALUE=DATE:20130429
END:VEVENT
END:VCALENDAR
