BEGIN:VCALENDAR
PRODID:-//eluceo/ical//2.0/EN
VERSION:2.0
CALSCALE:GREGORIAN
BEGIN:VEVENT
UID:f4962be9af72af07275b8bd20b11e4b3
DTSTAMP:20260422T090037Z
SUMMARY:jean-paul-gaultier - Date de vente : 29/04/2013
DESCRIPTION:Nom du lots : Jean Paul GAULTIER\n\nSac "Bombers" PM en nylon d
 e soie noir effet de jersey de chaque côté soulignant des poches zippée
 s\, fermeture éclair\, double poignée de cuir
DTSTART;VALUE=DATE:20130429
END:VEVENT
END:VCALENDAR
