BEGIN:VCALENDAR
PRODID:-//eluceo/ical//2.0/EN
VERSION:2.0
CALSCALE:GREGORIAN
BEGIN:VEVENT
UID:74f90d65fdc02fcbeaa134a3009d8e8d
DTSTAMP:20260422T090008Z
SUMMARY:thierry-mugler-circa-1990 - Date de vente : 29/04/2013
DESCRIPTION:Nom du lots : Thierry MUGLER circa 1990\n\nVeste longue cintré
 e en lainage à rayures noires\, bleues sur fond marron\, double boutonnag
 e pression\, poche poitrine\, buste souligné de coutures en relief\, effe
 t de basque par le tissu travaillé en opposé\, poches dans les coutures\
 , manches longues. Griffe bleue\, graphisme argent
DTSTART;VALUE=DATE:20130429
END:VEVENT
END:VCALENDAR
