BEGIN:VCALENDAR
PRODID:-//eluceo/ical//2.0/EN
VERSION:2.0
CALSCALE:GREGORIAN
BEGIN:VEVENT
UID:211f61b689271de32d57abaf31d3fa86
DTSTAMP:20260422T085644Z
SUMMARY:montana-circa-1990 - Date de vente : 29/04/2013
DESCRIPTION:Nom du lots : MONTANA circa 1990\n\nCombianaison en jersey de l
 aine élasthane lilas à effet de découpes surpiquées\, petit col montan
 t\, manches longues. Griffe noire\, graphisme argent
DTSTART;VALUE=DATE:20130429
END:VEVENT
END:VCALENDAR
