BEGIN:VCALENDAR
PRODID:-//eluceo/ical//2.0/EN
VERSION:2.0
CALSCALE:GREGORIAN
BEGIN:VEVENT
UID:4b5cfceaf0ecc8048428f69d55cea594
DTSTAMP:20260422T085504Z
SUMMARY:montana - Date de vente : 29/04/2013
DESCRIPTION:Nom du lots : MONTANA\n\nLot de deux paires de gants\, l’une 
 en cuir agneau noir zippée\, l’autre en cuir agneau noir doublé de lai
 ne à trois zips. Taille 9
DTSTART;VALUE=DATE:20130429
END:VEVENT
END:VCALENDAR
