BEGIN:VCALENDAR
PRODID:-//eluceo/ical//2.0/EN
VERSION:2.0
CALSCALE:GREGORIAN
BEGIN:VEVENT
UID:9035efcc731f3f81118e996915f2e6c8
DTSTAMP:20260422T083901Z
SUMMARY:alaa-circa-1985 - Date de vente : 29/04/2013
DESCRIPTION:Nom du lots : ALAÏA circa 1985\n\nVeste blazer en cuir marron\
 , col châle cranté une poche poitrine\, deux poches sous rabat\, simple 
 boutonnage\, manches longues\, jupe droite à l’identique à effet de la
 cets au dos. (salissures) Griffe blanche\, graphisme noir
DTSTART;VALUE=DATE:20130429
END:VEVENT
END:VCALENDAR
