BEGIN:VCALENDAR
PRODID:-//eluceo/ical//2.0/EN
VERSION:2.0
CALSCALE:GREGORIAN
BEGIN:VEVENT
UID:107dc862b6fdebbe656e2e6cf34de39c
DTSTAMP:20260422T090107Z
SUMMARY:claude-montana-circa-1985 - Date de vente : 29/04/2013
DESCRIPTION:Nom du lots : Claude MONTANA circa 1985\n\nBlouson zippé Homme
  en velours de coton côtelé noir\, petit col\, simple boutonnage en sous
  patte\, empiècements en cuir noir frangé dos et devant\, pattes de serr
 age de côté sur fente\, deux poches poitrine à rabats boutonnés et deu
 x poches à la verticale passepoilées de cuir\, pantalon fuseau à pinces
 . Griffe blanche\, graphisme or
DTSTART;VALUE=DATE:20130429
END:VEVENT
END:VCALENDAR
