BEGIN:VCALENDAR
PRODID:-//eluceo/ical//2.0/EN
VERSION:2.0
CALSCALE:GREGORIAN
BEGIN:VEVENT
UID:fb2fa93f8a0f782cecabd626b92ca5e6
DTSTAMP:20260422T090106Z
SUMMARY:sacai-made-in-japon - Date de vente : 29/04/2013
DESCRIPTION:Nom du lots : SACAI made in Japon\n\nVeste en jersey de laine m
 arine à côtes\, doublée de tulle bleu\, finissant par des pointes en bi
 ais\, col montant\, devant zippé plus long que les côtés laissant appar
 aître des quilles de drap\, manches longues avec revers. Griffe blanche\,
  graphisme noir
DTSTART;VALUE=DATE:20130429
END:VEVENT
END:VCALENDAR
