BEGIN:VCALENDAR
PRODID:-//eluceo/ical//2.0/EN
VERSION:2.0
CALSCALE:GREGORIAN
BEGIN:VEVENT
UID:6dbbca962f64eea14763b28a88d619e1
DTSTAMP:20260422T085339Z
SUMMARY:revillon - Date de vente : 29/04/2013
DESCRIPTION:Nom du lots : REVILLON\n\nManteau en daim gris entièrement per
 foré au laser\, encolure ronde\, manches longues
DTSTART;VALUE=DATE:20130429
END:VEVENT
END:VCALENDAR
